BEGIN:VCALENDAR
VERSION:2.0
PRODID:-//Antigua Public Utilities Authority (APUA) - ECPv5.1.2.1//NONSGML v1.0//EN
CALSCALE:GREGORIAN
METHOD:PUBLISH
X-WR-CALNAME:Antigua Public Utilities Authority (APUA)
X-ORIGINAL-URL:https://www.apua.ag
X-WR-CALDESC:Events for Antigua Public Utilities Authority (APUA)
BEGIN:VTIMEZONE
TZID:America/Antigua
BEGIN:STANDARD
TZOFFSETFROM:-0400
TZOFFSETTO:-0400
TZNAME:AST
DTSTART:20200101T000000
END:STANDARD
END:VTIMEZONE
BEGIN:VEVENT
DTSTART;TZID=America/Antigua:20200710T080000
DTEND;TZID=America/Antigua:20200710T140000
DTSTAMP:20260419T153522
CREATED:20200708T185956Z
LAST-MODIFIED:20200708T185956Z
UID:1364-1594368000-1594389600@www.apua.ag
SUMMARY:Electricity Maintenance Schedule - Wallings\, Fig-Tree and Claremont
DESCRIPTION:Please note that electricity will be suppressed during this time.\nDate: Friday 10th July 2020 \nExpected duration: 08:00 AM – 2:00 PM \nAffected areas:  Wallings\, Fig-Tree and Claremont \n
URL:https://www.apua.ag/outage/electricity-maintenance-schedule-wallings-fig-tree-and-claremont/
CATEGORIES:Maintenance
END:VEVENT
END:VCALENDAR