BEGIN:VCALENDAR
VERSION:2.0
PRODID:-//Antigua Public Utilities Authority (APUA) - ECPv5.1.2.1//NONSGML v1.0//EN
CALSCALE:GREGORIAN
METHOD:PUBLISH
X-WR-CALNAME:Antigua Public Utilities Authority (APUA)
X-ORIGINAL-URL:https://www.apua.ag
X-WR-CALDESC:Events for Antigua Public Utilities Authority (APUA)
BEGIN:VTIMEZONE
TZID:America/Antigua
BEGIN:STANDARD
TZOFFSETFROM:-0400
TZOFFSETTO:-0400
TZNAME:AST
DTSTART:20230101T000000
END:STANDARD
END:VTIMEZONE
BEGIN:VEVENT
DTSTART;TZID=America/Antigua:20230630T083000
DTEND;TZID=America/Antigua:20230630T133000
DTSTAMP:20260419T115419
CREATED:20230626T152222Z
LAST-MODIFIED:20230626T152222Z
UID:3585-1688113800-1688131800@www.apua.ag
SUMMARY:Electricity Maintenance Schedule -  Liberta\, Table Hill Gordon
DESCRIPTION:Please note that Electricity will be suppressed during this period.\nDate: Friday\, 30th June 2023 \nTime: 8:30 AM – 1:30 PM \nAffected areas: Liberta\, Table Hill Gordon \n
URL:https://www.apua.ag/outage/electricity-maintenance-schedule/
CATEGORIES:Maintenance,Scheduled Outages
END:VEVENT
END:VCALENDAR