BEGIN:VCALENDAR
VERSION:2.0
PRODID:-//Antigua Public Utilities Authority (APUA) - ECPv5.1.2.1//NONSGML v1.0//EN
CALSCALE:GREGORIAN
METHOD:PUBLISH
X-WR-CALNAME:Antigua Public Utilities Authority (APUA)
X-ORIGINAL-URL:https://www.apua.ag
X-WR-CALDESC:Events for Antigua Public Utilities Authority (APUA)
BEGIN:VTIMEZONE
TZID:America/Antigua
BEGIN:STANDARD
TZOFFSETFROM:-0400
TZOFFSETTO:-0400
TZNAME:AST
DTSTART:20250101T000000
END:STANDARD
END:VTIMEZONE
BEGIN:VEVENT
DTSTART;TZID=America/Antigua:20250220T083000
DTEND;TZID=America/Antigua:20250220T140000
DTSTAMP:20260425T232318
CREATED:20250217T145938Z
LAST-MODIFIED:20250217T150034Z
UID:5052-1740040200-1740060000@www.apua.ag
SUMMARY:Electricity Maintenance Schedule – Section of  McKinnons\, in the vicinity of Steffun Avenue
DESCRIPTION:Please note that the Electricity Service will be suppressed during this time.  \nDate: Thursday 20th February 2025\nTime: 8:30am – 2:00pm\nAffected area(s): Section of  McKinnons\, in the vicinity of Steffun Avenue\n
URL:https://www.apua.ag/outage/section-of-mckinnons-in-the-vicinity-of-steffun-avenue/
CATEGORIES:Maintenance,Scheduled Outages
END:VEVENT
END:VCALENDAR